BEGIN:VCALENDAR
VERSION:2.0
PRODID:-//Deine Webseite//NONSGML v1.0//DE
BEGIN:VEVENT
UID:69e85cb14bcb6@deine-webseite.com
DTSTAMP:20260422T052921Z
DTSTART:20260522T160000Z
DTEND:20260522T190000Z
SUMMARY:Geologisch-Botanische Exkursion
DESCRIPTION:Weitere Informationen auf https://www.rag-sh.de/veranstaltungen/geologisch-botanische-exkursion-2/
LOCATION:Veranstaltungsort hier angeben
END:VEVENT
END:VCALENDAR
