BEGIN:VCALENDAR
VERSION:2.0
PRODID:-//Deine Webseite//NONSGML v1.0//DE
BEGIN:VEVENT
UID:69e7f16d03e4d@deine-webseite.com
DTSTAMP:20260421T215141Z
DTSTART:20260324T150000Z
DTEND:20260324T180000Z
SUMMARY:Energie.Zukunft.Jetzt. – Ihre Bürgersprechstunde rund um erneuerbare Energien und Klimaschutz in Bürgel #3
DESCRIPTION:Weitere Informationen auf https://www.rag-sh.de/veranstaltungen/energie-zukunft-jetzt-buergersprechstunde-rund-um-erneuerbare-energien-und-klimaschutz-2-2/
LOCATION:Veranstaltungsort hier angeben
END:VEVENT
END:VCALENDAR
