BEGIN:VCALENDAR
VERSION:2.0
PRODID:-//Deine Webseite//NONSGML v1.0//DE
BEGIN:VEVENT
UID:69e9d97d07be2@deine-webseite.com
DTSTAMP:20260423T083405Z
DTSTART:20260812T120000Z
DTEND:20260812T150000Z
SUMMARY:Bienenjagd
DESCRIPTION:Weitere Informationen auf https://www.rag-sh.de/veranstaltungen/bienenjagd-2/
LOCATION:Veranstaltungsort hier angeben
END:VEVENT
END:VCALENDAR
